BEGIN:VCALENDAR
VERSION:2.0
PRODID:-//SOMD Audubon - ECPv6.15.18//NONSGML v1.0//EN
CALSCALE:GREGORIAN
METHOD:PUBLISH
X-ORIGINAL-URL:https://www.somdaudubon.org
X-WR-CALDESC:Events for SOMD Audubon
REFRESH-INTERVAL;VALUE=DURATION:PT1H
X-Robots-Tag:noindex
X-PUBLISHED-TTL:PT1H
BEGIN:VTIMEZONE
TZID:UTC
BEGIN:STANDARD
TZOFFSETFROM:+0000
TZOFFSETTO:+0000
TZNAME:UTC
DTSTART:20210101T000000
END:STANDARD
END:VTIMEZONE
BEGIN:VEVENT
DTSTART;TZID=UTC:20220907T190000
DTEND;TZID=UTC:20220907T203000
DTSTAMP:20260419T223915
CREATED:20220816T004158Z
LAST-MODIFIED:20220903T202014Z
UID:2485-1662577200-1662582600@www.somdaudubon.org
SUMMARY:Winter Sowing: How to grow your own natives for birds & beauty
DESCRIPTION:Monthly Meeting via Zoom\nSpeaker:  Molly Moore\, President\,  Southern Maryland Audubon Society and Charles County Master Gardener \n  \nSouthern Maryland Audubon Zoom presentation Wed.\, Sept. 7 at 7 PM \nWe all want to grow more natives for birds\, wildlife and beauty in our yards and on our patios. But native plants can be expensive! Learn how to grow your own natives from seeds\, on the cheap\, in milk jugs in the dead of winter.  \nZoom presentation is free and open to all. To receive the link to join this presentation you must sign up for our Osprey newsletter at somdaudubon.org. See the sign-up block at the bottom of the page. We will email the link several days prior as well as the same day of the lecture. (Master Gardeners and Master Naturalists can earn advanced education hours.) \n 
URL:https://www.somdaudubon.org/event/smas-monthly-zoom-meeting/
LOCATION:Zoom Meeting
ORGANIZER;CN="Southern Maryland Audubon Society":MAILTO:somdaudubon@gmail.com
END:VEVENT
END:VCALENDAR