BEGIN:VCALENDAR
VERSION:2.0
PRODID:-//SOMD Audubon - ECPv6.15.18//NONSGML v1.0//EN
CALSCALE:GREGORIAN
METHOD:PUBLISH
X-WR-CALNAME:SOMD Audubon
X-ORIGINAL-URL:https://www.somdaudubon.org
X-WR-CALDESC:Events for SOMD Audubon
REFRESH-INTERVAL;VALUE=DURATION:PT1H
X-Robots-Tag:noindex
X-PUBLISHED-TTL:PT1H
BEGIN:VTIMEZONE
TZID:UTC
BEGIN:STANDARD
TZOFFSETFROM:+0000
TZOFFSETTO:+0000
TZNAME:UTC
DTSTART:20210101T000000
END:STANDARD
END:VTIMEZONE
BEGIN:VEVENT
DTSTART;TZID=UTC:20220910T080000
DTEND;TZID=UTC:20220910T110000
DTSTAMP:20260419T223510
CREATED:20220816T005852Z
LAST-MODIFIED:20220830T000927Z
UID:2488-1662796800-1662807600@www.somdaudubon.org
SUMMARY:Migration along the St. Mary's River
DESCRIPTION:Field Trip\nLeader: Ben Springer \nJoin us for a fall meander to key bird migration hotspots in and around Historic St. Mary’s City\, which can be easily combined with a visit to the site of Maryland’s first capital. The combination of riverfront\, open fields\, forest and marshland provide us with a chance to look for migrating warblers as well as lingering breeding birds. \nMeet leader at 8 a.m. at the Chancellors Point Park parking lot. Directions: Driving south on Rte. 5 from St. Mary’s City\, turn right on Rosecroft Road. In one mile\, watch for signs for Chancellors Point Park. Turn right onto access road and follow signs to the end. (GPS coordinates: 38.1694115\, -76.4407542.) Maximum of 10 participants. RSVP required to Ben at 443-771-6636 (text preferred) or ben.springer@comcast.net.
URL:https://www.somdaudubon.org/event/field-trip-migration-along-the-st-marys-river/
LOCATION:Chancellors Point\, St. Mary’s City\, 18171 Rosecroft Road\, St. Mary’s City\, MD\, 20686
ORGANIZER;CN="Southern Maryland Audubon Society":MAILTO:somdaudubon@gmail.com
END:VEVENT
END:VCALENDAR