BEGIN:VCALENDAR
VERSION:2.0
PRODID:-//SOMD Audubon - ECPv6.15.18//NONSGML v1.0//EN
CALSCALE:GREGORIAN
METHOD:PUBLISH
X-WR-CALNAME:SOMD Audubon
X-ORIGINAL-URL:https://www.somdaudubon.org
X-WR-CALDESC:Events for SOMD Audubon
REFRESH-INTERVAL;VALUE=DURATION:PT1H
X-Robots-Tag:noindex
X-PUBLISHED-TTL:PT1H
BEGIN:VTIMEZONE
TZID:UTC
BEGIN:STANDARD
TZOFFSETFROM:+0000
TZOFFSETTO:+0000
TZNAME:UTC
DTSTART:20210101T000000
END:STANDARD
END:VTIMEZONE
BEGIN:VEVENT
DTSTART;TZID=UTC:20221002T080000
DTEND;TZID=UTC:20221002T120000
DTSTAMP:20260420T002153
CREATED:20220830T002453Z
LAST-MODIFIED:20220930T194333Z
UID:2520-1664697600-1664712000@www.somdaudubon.org
SUMMARY:Sharp-tailed Sparrows and Migrants--Cancelled due to weather
DESCRIPTION:Field Trip\nLeader: Bob Boxwell \nCove Point beach and marsh is a unique habitat on the Western shore of the Chesapeake Bay. A living shoreline project is helping to restore the freshwater marsh from saltwater incursion. We will target sparrows\, marsh inhabitants and migrants. \nThis is a restricted area and we are limited to ten guests. Exact location and directions given upon reservation. RSVP by September 28th to Bob at 410-231-125 or robertboxwell1@outlook.com
URL:https://www.somdaudubon.org/event/sharp-tailed-sparrows-and-migrants/
LOCATION:Cove Point\, Private\, United States
ORGANIZER;CN="Southern Maryland Audubon Society":MAILTO:somdaudubon@gmail.com
END:VEVENT
END:VCALENDAR