BEGIN:VCALENDAR
VERSION:2.0
PRODID:-//SOMD Audubon - ECPv6.15.18//NONSGML v1.0//EN
CALSCALE:GREGORIAN
METHOD:PUBLISH
X-ORIGINAL-URL:https://www.somdaudubon.org
X-WR-CALDESC:Events for SOMD Audubon
REFRESH-INTERVAL;VALUE=DURATION:PT1H
X-Robots-Tag:noindex
X-PUBLISHED-TTL:PT1H
BEGIN:VTIMEZONE
TZID:UTC
BEGIN:STANDARD
TZOFFSETFROM:+0000
TZOFFSETTO:+0000
TZNAME:UTC
DTSTART:20210101T000000
END:STANDARD
END:VTIMEZONE
BEGIN:VEVENT
DTSTART;TZID=UTC:20221005T190000
DTEND;TZID=UTC:20221005T203000
DTSTAMP:20260420T001648
CREATED:20220830T224642Z
LAST-MODIFIED:20221021T133953Z
UID:2528-1664996400-1665001800@www.somdaudubon.org
SUMMARY:On the Trail of the Invasive Spotted Lanternfly
DESCRIPTION:Spotted Lanternfly. Photo by Nick Stoff\, Penn State \nMonthly Meeting via Zoom – Recording Available\nSpeaker: Kenton Sumpter\, Entomologist\, Maryland Department of Agriculture \nKenton Sumpter is a detective on the trail of the invasive Spotted Lanternfly. He will share tales of how entomologists are discovering the routes and trying to halt the spread of this menace to some of our favorite Maryland native trees and most important agricultural crops. He also will offer tips on how you can support critical research to identify\, track\, and report this visually arresting but highly destructive insect. \nZoom in and join us online. The presentation is free and open to all. To receive the link to join this lecture you must sign up for our Osprey newsletter. See the sign-up form at the bottom of this web page. We will email the link to join the lecture several days prior to and the same day of the lecture.
URL:https://www.somdaudubon.org/event/getting-ahead-of-the-spotted-lantern-fly-invasion-in-maryland/
LOCATION:Zoom Meeting
ORGANIZER;CN="Southern Maryland Audubon Society":MAILTO:somdaudubon@gmail.com
END:VEVENT
END:VCALENDAR