BEGIN:VCALENDAR
VERSION:2.0
PRODID:-//SOMD Audubon - ECPv6.15.18//NONSGML v1.0//EN
CALSCALE:GREGORIAN
METHOD:PUBLISH
X-WR-CALNAME:SOMD Audubon
X-ORIGINAL-URL:https://www.somdaudubon.org
X-WR-CALDESC:Events for SOMD Audubon
REFRESH-INTERVAL;VALUE=DURATION:PT1H
X-Robots-Tag:noindex
X-PUBLISHED-TTL:PT1H
BEGIN:VTIMEZONE
TZID:UTC
BEGIN:STANDARD
TZOFFSETFROM:+0000
TZOFFSETTO:+0000
TZNAME:UTC
DTSTART:20210101T000000
END:STANDARD
END:VTIMEZONE
BEGIN:VEVENT
DTSTART;TZID=UTC:20221102T190000
DTEND;TZID=UTC:20221102T203000
DTSTAMP:20260420T001302
CREATED:20220830T225416Z
LAST-MODIFIED:20220922T212617Z
UID:2530-1667415600-1667421000@www.somdaudubon.org
SUMMARY:Birds and Beyond in Cuba
DESCRIPTION:Monthly Meeting via Zoom\nSpeaker:  Paul Baicich\, Bird Conservationist\, and co-author of numerous books\, including the popular monthly Birding Community E-Bulletin. \nPaul will introduce us to a number of key natural and bird-filled locations in Cuba – Viñales\, Zapata\, Guanahacabibes\, Cayo Coco\, Baracoa\, Topes de Collantes\, and Havana. But just as importantly\, we will examine opportunities for “connecting” with our counterparts in Cuba. This is particularly important since Cuba contains 28 Important Bird Areas (IBAs)\, with over 370 bird species recorded on the island. Of these 370 species\, 27 are endemic to the island\, and 29 are considered globally threatened. We will look at these fascinating birds\, places\, and people in terms of advancing bird-education\, conservation\, and responsible eco-tourism. \nTo receive the link to join this lecture you must sign up for our Osprey newsletter. See the sign-up form at the bottom of this web page. We will email the link to join the lecture several days prior to and the same day of the lecture.
URL:https://www.somdaudubon.org/event/birds-and-beyond-in-cuba/
LOCATION:Zoom Meeting
ORGANIZER;CN="Southern Maryland Audubon Society":MAILTO:somdaudubon@gmail.com
END:VEVENT
END:VCALENDAR