BEGIN:VCALENDAR
VERSION:2.0
PRODID:-//SOMD Audubon - ECPv6.15.18//NONSGML v1.0//EN
CALSCALE:GREGORIAN
METHOD:PUBLISH
X-ORIGINAL-URL:https://www.somdaudubon.org
X-WR-CALDESC:Events for SOMD Audubon
REFRESH-INTERVAL;VALUE=DURATION:PT1H
X-Robots-Tag:noindex
X-PUBLISHED-TTL:PT1H
BEGIN:VTIMEZONE
TZID:UTC
BEGIN:STANDARD
TZOFFSETFROM:+0000
TZOFFSETTO:+0000
TZNAME:UTC
DTSTART:20220101T000000
END:STANDARD
END:VTIMEZONE
BEGIN:VEVENT
DTSTART;TZID=UTC:20230201T190000
DTEND;TZID=UTC:20230201T200000
DTSTAMP:20260421T120339
CREATED:20221122T020733Z
LAST-MODIFIED:20221122T020733Z
UID:2784-1675278000-1675281600@www.somdaudubon.org
SUMMARY:Bring Your Kids to Audubon Night
DESCRIPTION:Monthly Meeting via Zoom\nMeet some of our star youth birders\, learn about their amazing conservation projects\, and discover how the newest generation of birders are changing birding and bird conservation. You’ll learn how to apply for our 2023 youth scholarship to a summer birding and conservation camp at Audubon’s Hog Island in Maine\, which has one of the East Coast’s largest Puffin populations. We’ll also describe our Hog Island scholarships for teachers and other conservation educators. \nZoom in and join us online. The presentation is free and open to all. To receive the link to join this lecture you must sign up for our Osprey newsletter. See the sign-up form at the bottom of this web page. We will email the link to join the lecture several days prior to and the same day of the lecture. \n 
URL:https://www.somdaudubon.org/event/bring-your-kids-to-audubon-night/
LOCATION:Zoom Meeting
ORGANIZER;CN="Southern Maryland Audubon Society":MAILTO:somdaudubon@gmail.com
END:VEVENT
END:VCALENDAR