BEGIN:VCALENDAR
VERSION:2.0
PRODID:-//SOMD Audubon - ECPv6.15.18//NONSGML v1.0//EN
CALSCALE:GREGORIAN
METHOD:PUBLISH
X-ORIGINAL-URL:https://www.somdaudubon.org
X-WR-CALDESC:Events for SOMD Audubon
REFRESH-INTERVAL;VALUE=DURATION:PT1H
X-Robots-Tag:noindex
X-PUBLISHED-TTL:PT1H
BEGIN:VTIMEZONE
TZID:UTC
BEGIN:STANDARD
TZOFFSETFROM:+0000
TZOFFSETTO:+0000
TZNAME:UTC
DTSTART:20220101T000000
END:STANDARD
END:VTIMEZONE
BEGIN:VEVENT
DTSTART;TZID=UTC:20230218T083000
DTEND;TZID=UTC:20230218T113000
DTSTAMP:20260421T133757
CREATED:20221122T021435Z
LAST-MODIFIED:20221122T022125Z
UID:2791-1676709000-1676719800@www.somdaudubon.org
SUMMARY:Great Backyard Bird Count on the River
DESCRIPTION:FIELD TRIP:  A Great Family Outing!\nLeader: Lynne Wheeler \nCome and enjoy a winter walk through the woods on a 1\,200-feet-long boardwalk along the Potomac River. A great bird walk for families! We will also participate in the Great Backyard Bird Count\, a global project where the world comes together for the love of birds. We will report our observations to help scientists better understand bird populations before one of their annual migrations. Expect to see many Bald Eagles and rafts of waterfowl\, as well as winter birds in the wooded section. \nDue to limited parking\, we will meet at the Indian Head pavilion parking lot at 100 Walter Thomas Road\, Indian Head\, MD 20640. We will carpool and/or do drop offs to the boardwalk. \nRSVP to Lynne Wheeler at 301- 751-8097 (text only) or somdaudubon@yahoo.com. \n 
URL:https://www.somdaudubon.org/event/great-backyard-bird-count-on-the-river/
LOCATION:Indian Head River Walk\, 165 Riverwatch Drive\, Indian Head\, MD\, 20640\, United States
ORGANIZER;CN="Southern Maryland Audubon Society":MAILTO:somdaudubon@gmail.com
END:VEVENT
END:VCALENDAR