BEGIN:VCALENDAR
VERSION:2.0
PRODID:-//SOMD Audubon - ECPv6.15.18//NONSGML v1.0//EN
CALSCALE:GREGORIAN
METHOD:PUBLISH
X-ORIGINAL-URL:https://www.somdaudubon.org
X-WR-CALDESC:Events for SOMD Audubon
REFRESH-INTERVAL;VALUE=DURATION:PT1H
X-Robots-Tag:noindex
X-PUBLISHED-TTL:PT1H
BEGIN:VTIMEZONE
TZID:UTC
BEGIN:STANDARD
TZOFFSETFROM:+0000
TZOFFSETTO:+0000
TZNAME:UTC
DTSTART:20220101T000000
END:STANDARD
END:VTIMEZONE
BEGIN:VEVENT
DTSTART;TZID=UTC:20230304T080000
DTEND;TZID=UTC:20230304T120000
DTSTAMP:20260421T151007
CREATED:20230128T183933Z
LAST-MODIFIED:20230128T193306Z
UID:2967-1677916800-1677931200@www.somdaudubon.org
SUMMARY:Winter Birds and Tundra Specialists at PAX River Airfield
DESCRIPTION:Short Eared Owl. Photo by Boe Baty\, Audubon Photography Awards \nField Trip\nLeader: Dean Newman \nOne of our best outings! Don’t miss this trip; it fills up quickly! We are fortunate to have access to sections of the navy base fronting on the confluence of the Patuxent River and the Chesapeake Bay\, which hosts airfields that provide tundra-like habitat. Previous trips have turned up winter birds such as Snow Bunting\, Lapland Longspurs\, Short-eared Owls\, Horned Larks\, Savannah Sparrows\, Wilson’s Snipe\, and Peregrine Falcon. \nPre-registration is required and open to U.S. citizens only. Must bring photo I.D. We will be escorted and traveling together in a van\, so participant size is limited to 10. RSVP to Dean Newman at deannewman03@gmail.com. \nMeet near the entrance to Gate 2\, in the parking lot for the pass office.
URL:https://www.somdaudubon.org/event/winter-birds-and-tundra-specialists-at-pax-river-airfield/
LOCATION:Patuxent River Naval Air Station\, 21866 Cedar Point\, Bldg. 2189\, NAS Patuxent River\, Maryland\, 20670
ORGANIZER;CN="Southern Maryland Audubon Society":MAILTO:somdaudubon@gmail.com
END:VEVENT
END:VCALENDAR