BEGIN:VCALENDAR
VERSION:2.0
PRODID:-//SOMD Audubon - ECPv6.15.18//NONSGML v1.0//EN
CALSCALE:GREGORIAN
METHOD:PUBLISH
X-ORIGINAL-URL:https://www.somdaudubon.org
X-WR-CALDESC:Events for SOMD Audubon
REFRESH-INTERVAL;VALUE=DURATION:PT1H
X-Robots-Tag:noindex
X-PUBLISHED-TTL:PT1H
BEGIN:VTIMEZONE
TZID:UTC
BEGIN:STANDARD
TZOFFSETFROM:+0000
TZOFFSETTO:+0000
TZNAME:UTC
DTSTART:20220101T000000
END:STANDARD
END:VTIMEZONE
BEGIN:VEVENT
DTSTART;TZID=UTC:20230415T090000
DTEND;TZID=UTC:20230415T160000
DTSTAMP:20260421T164811
CREATED:20230324T153543Z
LAST-MODIFIED:20230410T174713Z
UID:3032-1681549200-1681574400@www.somdaudubon.org
SUMMARY:2023 Virginia Osprey Festival
DESCRIPTION:Event\nApril 15 @ 9:00 am – 4:00 pm \nFestival and exhibits \nSouthern Maryland Audubon will participate with an exhibit on Ospreys\, including crafts for children. \nSouthern Maryland Audubon raptor chair Mike Callahan will have a presentation on raptor identification and traits. \nTown Hill\, Colonial Avenue & Washington Ave.\, Colonial Beach\, VA\nFor more information:  https://www.virginiaospreyfestival.org\nSee their FAQS page for details such as where to park and admission prices.
URL:https://www.somdaudubon.org/event/2023-virginia-osprey-festival/
LOCATION:MD
END:VEVENT
END:VCALENDAR