BEGIN:VCALENDAR
VERSION:2.0
PRODID:-//SOMD Audubon - ECPv6.15.18//NONSGML v1.0//EN
CALSCALE:GREGORIAN
METHOD:PUBLISH
X-ORIGINAL-URL:https://www.somdaudubon.org
X-WR-CALDESC:Events for SOMD Audubon
REFRESH-INTERVAL;VALUE=DURATION:PT1H
X-Robots-Tag:noindex
X-PUBLISHED-TTL:PT1H
BEGIN:VTIMEZONE
TZID:UTC
BEGIN:STANDARD
TZOFFSETFROM:+0000
TZOFFSETTO:+0000
TZNAME:UTC
DTSTART:20220101T000000
END:STANDARD
END:VTIMEZONE
BEGIN:VEVENT
DTSTART;TZID=UTC:20230423T080000
DTEND;TZID=UTC:20230423T110000
DTSTAMP:20260421T163836
CREATED:20230322T011429Z
LAST-MODIFIED:20230322T011429Z
UID:3020-1682236800-1682247600@www.somdaudubon.org
SUMMARY:What's Soaring at Sotterley
DESCRIPTION:Field Trip – Earth Day Bird Walk \nLeader: David Moulton \nCelebrate Earth Day weekend with a bird walk at this scenic and historic Patuxent River property as the annual surge of bird migration begins. Nesting Bald Eagles\, migrating warblers\, meadowlarks\, woodpeckers and waterfowl can all be found on Sotterley’s farm roads and trails. \nDIRECTIONS: From Rt. 235 go north on Sotterley Road\, turn right through the gates into Sotterley\, proceed to the gravel parking lot. 15-person maximum; Covid rules apply. RSVP at 240-278-4473 or moulton.davidh@gmail.com
URL:https://www.somdaudubon.org/event/whats-soaring-at-sotterley/
LOCATION:Historic Sotterley\, 44300 Sotterley Lane\, Hollywood\, MD\, 20636\, United States
ORGANIZER;CN="Southern Maryland Audubon Society":MAILTO:somdaudubon@gmail.com
END:VEVENT
END:VCALENDAR