BEGIN:VCALENDAR
VERSION:2.0
PRODID:-//SOMD Audubon - ECPv6.15.18//NONSGML v1.0//EN
CALSCALE:GREGORIAN
METHOD:PUBLISH
X-WR-CALNAME:SOMD Audubon
X-ORIGINAL-URL:https://www.somdaudubon.org
X-WR-CALDESC:Events for SOMD Audubon
REFRESH-INTERVAL;VALUE=DURATION:PT1H
X-Robots-Tag:noindex
X-PUBLISHED-TTL:PT1H
BEGIN:VTIMEZONE
TZID:UTC
BEGIN:STANDARD
TZOFFSETFROM:+0000
TZOFFSETTO:+0000
TZNAME:UTC
DTSTART:20220101T000000
END:STANDARD
END:VTIMEZONE
BEGIN:VEVENT
DTSTART;TZID=UTC:20230429T080000
DTEND;TZID=UTC:20230429T110000
DTSTAMP:20260421T163434
CREATED:20230322T011540Z
LAST-MODIFIED:20230322T011540Z
UID:3023-1682755200-1682766000@www.somdaudubon.org
SUMMARY:Marshland and Trails of Accokeek
DESCRIPTION:Field Trip\nLeader: Marisa Rositol \nSpend a spring morning in Piscataway Park along the Potomac River. We will begin on the Accokeek Creek Marsh Boardwalk\, which traverses marshland and offers spectacular views of the river and the Virginia shoreline\, including George Washington’s Mount Vernon estate. Ducks\, marsh birds and raptors all possible. Boardwalk continues to fields and woods where we will search for migrants and nesting land birds. Time permitting\, we will explore other nearby trails of Piscataway Park for upland species. \nDIRECTIONS: Meet at Marsh Boardwalk parking lot: From Rt 210 in Accokeek\, turn east on Livingston Road. Turn right on Biddle Rd and left on Bryan Point Road. In about 3 miles\, take right on entrance road to the Boardwalk lot. RSVP to Marisa at 301-672-7664 or MKRositol@yahoo.com.
URL:https://www.somdaudubon.org/event/marshland-and-trails-of-accokeek/
LOCATION:Accokeek Marsh and Piscataway Park\, 2832 Bryan Point Road\, Accokeek\, MD\, United States
ORGANIZER;CN="Southern Maryland Audubon Society":MAILTO:somdaudubon@gmail.com
END:VEVENT
END:VCALENDAR