BEGIN:VCALENDAR
VERSION:2.0
PRODID:-//SOMD Audubon - ECPv6.15.18//NONSGML v1.0//EN
CALSCALE:GREGORIAN
METHOD:PUBLISH
X-WR-CALNAME:SOMD Audubon
X-ORIGINAL-URL:https://www.somdaudubon.org
X-WR-CALDESC:Events for SOMD Audubon
REFRESH-INTERVAL;VALUE=DURATION:PT1H
X-Robots-Tag:noindex
X-PUBLISHED-TTL:PT1H
BEGIN:VTIMEZONE
TZID:UTC
BEGIN:STANDARD
TZOFFSETFROM:+0000
TZOFFSETTO:+0000
TZNAME:UTC
DTSTART:20220101T000000
END:STANDARD
END:VTIMEZONE
BEGIN:VEVENT
DTSTART;TZID=UTC:20230430T090000
DTEND;TZID=UTC:20230430T110000
DTSTAMP:20260421T163531
CREATED:20230322T011509Z
LAST-MODIFIED:20230322T011509Z
UID:3026-1682845200-1682852400@www.somdaudubon.org
SUMMARY:Celebrate the Return of the Prothonotary Warbler
DESCRIPTION:Field Trip\nLeader: Gene Groshon \nVisit this unique swampland where one of Southern Maryland’s most eye-popping warblers makes its home. The Prothonotary Warbler will be in full song\, setting up its breeding territories. Our leader has been banding Prothonotaries in this location for several years. Our goal will be to identify individual warblers that have just returned from Venezuela\, Colombia or Mexico to the Cypress Swamp to nest again. The Sanctuary includes a boardwalk through the swamp\, so the birding should be excellent at the height of spring migration. \nDIRECTIONS: About 2 mi south of Prince Frederick\, MD on Rt 4\, turn south on Sixes Road (Rt 506). In 2 miles turn left on Grays Road. Proceed for about a quarter mile to Sanctuary entrance on the right. Register online\, below\, or on our website. https://www.calvertparks.org/event-5139372
URL:https://www.somdaudubon.org/event/celebrate-the-return-of-the-prothonotary-warbler-2/
LOCATION:Battle Creek Cypress Swamp Sanctuary\, 2880 Grays Road\, Prince Frederick\, MD\, 20678\, United States
END:VEVENT
END:VCALENDAR