BEGIN:VCALENDAR
VERSION:2.0
PRODID:-//SOMD Audubon - ECPv6.15.18//NONSGML v1.0//EN
CALSCALE:GREGORIAN
METHOD:PUBLISH
X-ORIGINAL-URL:https://www.somdaudubon.org
X-WR-CALDESC:Events for SOMD Audubon
REFRESH-INTERVAL;VALUE=DURATION:PT1H
X-Robots-Tag:noindex
X-PUBLISHED-TTL:PT1H
BEGIN:VTIMEZONE
TZID:UTC
BEGIN:STANDARD
TZOFFSETFROM:+0000
TZOFFSETTO:+0000
TZNAME:UTC
DTSTART:20220101T000000
END:STANDARD
END:VTIMEZONE
BEGIN:VEVENT
DTSTART;TZID=UTC:20230506T073000
DTEND;TZID=UTC:20230506T110000
DTSTAMP:20260421T163737
CREATED:20230422T221800Z
LAST-MODIFIED:20230422T221800Z
UID:3062-1683358200-1683370800@www.somdaudubon.org
SUMMARY:Warblers And Spring Migration on the Holly Hill Trail
DESCRIPTION:Field Trip\nLeader: Sherman Suter \nJoin us for one of our dazzling nature gems in Calvert County. The American Chestnut Land Trust has 22 miles of natural trails\, including the recently established Holly Hill Trail. Explore this spectacular property in search of warblers and other neotropical songbirds. Bird migration will be strong\, as well as the singing of the local breeding birds establishing nesting territories.  Trails are well-maintained but rough in spots\, so wear appropriate footwear. \nDIRECTIONS: From Route 4 in Prince Frederick\, turn east onto Dares Beach Road/MD 402. Continue 2.4 miles to right turn at Double Oak Road.  Continue 1.5 miles to a signed gate and a dirt road on the left. Take the dirt road to the left and continue to the parking lot between office and barn.  Meet at the parking lot just beyond the Land Trust Office.  RSVP to Sherman at 410-586-1073 or ShermanSuter@gmail.com. \nNote the early starting time of 7:30 a.m. \n 
URL:https://www.somdaudubon.org/event/warblers-and-spring-migration-on-the-holly-hill-trail/
LOCATION:American Chestnut Land Trust\, 676 Double Oak Road\, Prince Frederick\, 20678\, United States
ORGANIZER;CN="Southern Maryland Audubon Society":MAILTO:somdaudubon@gmail.com
END:VEVENT
END:VCALENDAR