BEGIN:VCALENDAR
VERSION:2.0
PRODID:-//SOMD Audubon - ECPv6.15.18//NONSGML v1.0//EN
CALSCALE:GREGORIAN
METHOD:PUBLISH
X-WR-CALNAME:SOMD Audubon
X-ORIGINAL-URL:https://www.somdaudubon.org
X-WR-CALDESC:Events for SOMD Audubon
REFRESH-INTERVAL;VALUE=DURATION:PT1H
X-Robots-Tag:noindex
X-PUBLISHED-TTL:PT1H
BEGIN:VTIMEZONE
TZID:UTC
BEGIN:STANDARD
TZOFFSETFROM:+0000
TZOFFSETTO:+0000
TZNAME:UTC
DTSTART:20220101T000000
END:STANDARD
END:VTIMEZONE
BEGIN:VEVENT
DTSTART;TZID=UTC:20230906T190000
DTEND;TZID=UTC:20230906T200000
DTSTAMP:20260421T224723
CREATED:20230821T185643Z
LAST-MODIFIED:20230821T185643Z
UID:3245-1694026800-1694030400@www.somdaudubon.org
SUMMARY:Gardening for Birds:  How we can all be Habitat Ambassadors
DESCRIPTION:Monthly Meeting via Zoom\nSpeaker:  ERIN REED MILLER\, Bird-Friendly Communities Coordinator\, Patterson Park Audubon Center \nWhether you have a community park\, backyard or simply a window box\, you can plan your own wildlife sanctuary. Erin explains how every patch of habitat\, however small or paved\, adds up\, making a big difference for birds. Erin Reed Miller earned degrees in Wildlife Conservation and Wildlife Ecology from the University of Delaware. There she researched native plant and insect connections with Dr. Doug Tallamy\, author of Bringing Nature Home\, The Living Landscape\, and Nature’s Best Hope. She is currently Bird-Friendly Communities Coordinator at Baltimore’s Patterson Park Audubon Center where she works with communities to increase bird friendly habitats. To receive ZOOM link\, sign up for The Osprey newsletter at the bottom of our homepage at www.somdaudubon.org. Link will be emailed to you several days before the event.
URL:https://www.somdaudubon.org/event/gardening-for-birds-how-we-can-all-be-habitat-ambassadors/
LOCATION:Zoom Meeting
ORGANIZER;CN="Southern Maryland Audubon Society":MAILTO:somdaudubon@gmail.com
END:VEVENT
END:VCALENDAR