BEGIN:VCALENDAR
VERSION:2.0
PRODID:-//SOMD Audubon - ECPv6.15.18//NONSGML v1.0//EN
CALSCALE:GREGORIAN
METHOD:PUBLISH
X-WR-CALNAME:SOMD Audubon
X-ORIGINAL-URL:https://www.somdaudubon.org
X-WR-CALDESC:Events for SOMD Audubon
REFRESH-INTERVAL;VALUE=DURATION:PT1H
X-Robots-Tag:noindex
X-PUBLISHED-TTL:PT1H
BEGIN:VTIMEZONE
TZID:UTC
BEGIN:STANDARD
TZOFFSETFROM:+0000
TZOFFSETTO:+0000
TZNAME:UTC
DTSTART:20220101T000000
END:STANDARD
END:VTIMEZONE
BEGIN:VEVENT
DTSTART;TZID=UTC:20230909T080000
DTEND;TZID=UTC:20230909T110000
DTSTAMP:20260421T224851
CREATED:20230821T191148Z
LAST-MODIFIED:20230821T191148Z
UID:3248-1694246400-1694257200@www.somdaudubon.org
SUMMARY:Migration Along the St. Mary's River
DESCRIPTION:FIELD TRIP\nLeader: BEN SPRINGER \nJoin us for a fall meander to key bird migration hotspots in and around Historic St. Mary’s City\, which can be\neasily combined with a visit to the site of Maryland’s first capital. The combination of riverfront\, open fields\, forest\nand marshland provide us with a chance to look for migrating warblers as well as lingering breeding birds. Easy\nwalk with minor elevation changes. Meet leader at 8 a.m. at the Chancellors Point Park parking lot. \nDirections:  Driving south on Rte. 5 from St. Mary’s City\, turn right on Rosecroft Road. In one mile\, watch for signs for Chancellors Point Park. Turn right onto access road and follow signs to the end. (GPS coordinates: 38.1694115\, -76.4407542.) \nMaximum of 10 participants. RSVP to Ben at ben.springer@comcast.net or 443-771-6636 (text preferred).
URL:https://www.somdaudubon.org/event/migration-along-the-st-marys-river/
LOCATION:Chancellors Point\, St. Mary’s City\, 18171 Rosecroft Road\, St. Mary’s City\, MD\, 20686
ORGANIZER;CN="Southern Maryland Audubon Society":MAILTO:somdaudubon@gmail.com
END:VEVENT
BEGIN:VEVENT
DTSTART;TZID=UTC:20230909T100000
DTEND;TZID=UTC:20230909T130000
DTSTAMP:20260421T224851
CREATED:20230821T191209Z
LAST-MODIFIED:20230821T191209Z
UID:3251-1694253600-1694264400@www.somdaudubon.org
SUMMARY:Bird Walk and BioBlitz at Mallows Bay
DESCRIPTION:FIELD TRIP – Bird Walk (10 a.m. – 11 a.m.)  and BioBlitz (10 a.m. – 1 p.m.)\nLeader: LYNNE WHEELER \nJoin us at Mallows Bay either for a one-hour bird walk hosted by the Southern Maryland Audubon Society\,\nor you can also officially register to participate in NOAA’s BioBlitz. Whatever floats your boat! Come learn about\nthe biodiversity in the sanctuary and species that this unique habitat supports. BioBlitz is a free event where participants collect as many species observations as possible. By participating\, you’ll help scientists collect valuable biodiversity information and learn more about Mallows Bay! Joining the BioBlitz is easy! Anyone with a cellphone camera and access to the free iNaturalist app can participate. Here’s how:\n1) Download the iNaturalist App. Create a user account at iNaturalist.org.\n2) Join the project on iNaturalist.\n3) You must pre-register for the BioBlitz (10 a.m. – 1 p.m.) You will receive a free t-shirt at check-in! Look\nfor the blue NOAA tent. \nSpecial activities:\n10:00am – Guided bird-watching hike led by the Southern Maryland Audubon Society\nAll day – Seining for aquatic organisms with the Maryland Department of Natural Resources \nRSVP to Lynne at somdaudubon@yahoo.com or 301-751-8097 (text only) by September 2. Include your full name\, what county you reside in\, how many are attending\, and specify bird walk only or both events. Note: One\nsection of the trail has a steep incline\, moderate difficulty.
URL:https://www.somdaudubon.org/event/bird-walk-and-bioblitz-at-mallows-bay/
LOCATION:Mallows Bay Park and Marine Sanctuary\, 1440 Wilson Landing Rd\, Nanjemoy\, MD\, 20662\, United States
ORGANIZER;CN="Southern Maryland Audubon Society":MAILTO:somdaudubon@gmail.com
END:VEVENT
END:VCALENDAR