BEGIN:VCALENDAR
VERSION:2.0
PRODID:-//SOMD Audubon - ECPv6.15.18//NONSGML v1.0//EN
CALSCALE:GREGORIAN
METHOD:PUBLISH
X-ORIGINAL-URL:https://www.somdaudubon.org
X-WR-CALDESC:Events for SOMD Audubon
REFRESH-INTERVAL;VALUE=DURATION:PT1H
X-Robots-Tag:noindex
X-PUBLISHED-TTL:PT1H
BEGIN:VTIMEZONE
TZID:UTC
BEGIN:STANDARD
TZOFFSETFROM:+0000
TZOFFSETTO:+0000
TZNAME:UTC
DTSTART:20220101T000000
END:STANDARD
END:VTIMEZONE
BEGIN:VEVENT
DTSTART;TZID=UTC:20230913T190000
DTEND;TZID=UTC:20230913T190000
DTSTAMP:20260421T225105
CREATED:20230821T191524Z
LAST-MODIFIED:20230821T191524Z
UID:3255-1694631600-1694631600@www.somdaudubon.org
SUMMARY:Sotterley Presents:  Saving Grassland Birds in Sotterley's Hayfields
DESCRIPTION:Presentation (In Person)\nSpeaker: DAVID MOULTON\, founder of Saving Southern Maryland’s Grassland Birds \nDavid will discuss the role Historic Sotterley has played in finding ways to bale hay while trying not to harm baby birds at the\nsame time. Some of our most beloved species of grassland birds\, such as the Eastern Meadowlark\, nest only in large hay fields during May and June – often conflicting directly with the spring hay harvest. What can be done? With Sotterley’s property manager\, Joe Goldsmith\, David has undertaken a series of experiments to demonstrate that by altering harvest techniques\, timing and patterns\, Southern Maryland hay farmers can often maintain their haying operations while significantly increasing the reproductive success of the birds. He will outline their findings and share ideas about maintaining our agricultural heritage and conserving our threatened wildlife. \nThis event will be in-person only. We request that you register in advance: Register for FREE Here!
URL:https://www.somdaudubon.org/event/sotterley-presents-saving-grassland-birds-in-sotterleys-hayfields/
LOCATION:Historic Sotterley\, 44300 Sotterley Lane\, Hollywood\, MD\, 20636\, United States
END:VEVENT
END:VCALENDAR