BEGIN:VCALENDAR
VERSION:2.0
PRODID:-//SOMD Audubon - ECPv6.15.18//NONSGML v1.0//EN
CALSCALE:GREGORIAN
METHOD:PUBLISH
X-ORIGINAL-URL:https://www.somdaudubon.org
X-WR-CALDESC:Events for SOMD Audubon
REFRESH-INTERVAL;VALUE=DURATION:PT1H
X-Robots-Tag:noindex
X-PUBLISHED-TTL:PT1H
BEGIN:VTIMEZONE
TZID:UTC
BEGIN:STANDARD
TZOFFSETFROM:+0000
TZOFFSETTO:+0000
TZNAME:UTC
DTSTART:20220101T000000
END:STANDARD
END:VTIMEZONE
BEGIN:VEVENT
DTSTART;TZID=UTC:20230916T080000
DTEND;TZID=UTC:20230916T120000
DTSTAMP:20260421T225106
CREATED:20230821T191125Z
LAST-MODIFIED:20230821T191125Z
UID:3260-1694851200-1694865600@www.somdaudubon.org
SUMMARY:Migration on the Point
DESCRIPTION:Field Trip\nLeader: TYLER BELL \nJoin us at Southern Maryland’s premier birding hotspot as fall migrants funnel south to cross the Chesapeake Bay and the Potomac River. Loblolly pines\, mixed hardwoods\, beaches\, marshes and broad water views regularly deliver a wide variety of species and occasional rarities. \nNote:  Since Point Lookout State Park is a fee area\, we’ll meet at the Ridge Post Office parking lot and arrange carpooling from there. From Lexington Park drive south on Rte. 235 for 13 miles. Go left on Rte. 5 for 0.7 miles then left into the Ridge Post Office parking lot. \nBathroom facilities available. Flat\, easy terrain. Mosquitos can be problematic so bring bug spray. Sunscreen recommended. Maximum of 15 participants. RSVP to Tyler at 301-862-4623 or jtylerbell@yahoo.com.
URL:https://www.somdaudubon.org/event/migration-on-the-point-2/
LOCATION:Point Lookout State Park\, St. Mary’s County\, 11175 Point Lookout Road\, Scotland\, MD\, 20687
ORGANIZER;CN="Southern Maryland Audubon Society":MAILTO:somdaudubon@gmail.com
END:VEVENT
END:VCALENDAR