BEGIN:VCALENDAR
VERSION:2.0
PRODID:-//SOMD Audubon - ECPv6.15.18//NONSGML v1.0//EN
CALSCALE:GREGORIAN
METHOD:PUBLISH
X-WR-CALNAME:SOMD Audubon
X-ORIGINAL-URL:https://www.somdaudubon.org
X-WR-CALDESC:Events for SOMD Audubon
REFRESH-INTERVAL;VALUE=DURATION:PT1H
X-Robots-Tag:noindex
X-PUBLISHED-TTL:PT1H
BEGIN:VTIMEZONE
TZID:UTC
BEGIN:STANDARD
TZOFFSETFROM:+0000
TZOFFSETTO:+0000
TZNAME:UTC
DTSTART:20220101T000000
END:STANDARD
END:VTIMEZONE
BEGIN:VEVENT
DTSTART;TZID=UTC:20230917T100000
DTEND;TZID=UTC:20230917T113000
DTSTAMP:20260421T224721
CREATED:20230821T191342Z
LAST-MODIFIED:20230821T191342Z
UID:3262-1694944800-1694950200@www.somdaudubon.org
SUMMARY:Learning Nature Journaling
DESCRIPTION:Nature Workshop\nLeader: KAELYN STEWART \nNature journaling is easier than you think! You don’t have to be an artist or a writer to get closer to birds and nature with a notebook and pen. Kaelyn will guide you through exercises that will sharpen your observational skills and expand your personal experience with nature in the tranquil setting of Gilbert Run Park. On our fairly easy walk to a peaceful spot to journal\, we could traverse some slightly hilly areas with exposed tree roots. Comfortable walking shoes recommended. \nRSVP required to president.somdaudubon@gmail.com. Workshop is free.  Open to all ages 10 and above. Sketchbook and pen will be provided. \nDirections:  Eight miles east of La Plata on Route 6. Enter parking lot and look for us beneath a hand-held Southern Maryland Audubon logo sign.
URL:https://www.somdaudubon.org/event/learning-nature-journaling/
LOCATION:Gilbert Run Park\, 13140 Charles St.\, Charlotte Hall\, MD\, 20622\, United States
ORGANIZER;CN="Southern Maryland Audubon Society":MAILTO:somdaudubon@gmail.com
END:VEVENT
END:VCALENDAR