BEGIN:VCALENDAR
VERSION:2.0
PRODID:-//SOMD Audubon - ECPv6.15.18//NONSGML v1.0//EN
CALSCALE:GREGORIAN
METHOD:PUBLISH
X-WR-CALNAME:SOMD Audubon
X-ORIGINAL-URL:https://www.somdaudubon.org
X-WR-CALDESC:Events for SOMD Audubon
REFRESH-INTERVAL;VALUE=DURATION:PT1H
X-Robots-Tag:noindex
X-PUBLISHED-TTL:PT1H
BEGIN:VTIMEZONE
TZID:UTC
BEGIN:STANDARD
TZOFFSETFROM:+0000
TZOFFSETTO:+0000
TZNAME:UTC
DTSTART:20220101T000000
END:STANDARD
END:VTIMEZONE
BEGIN:VEVENT
DTSTART;TZID=UTC:20231008T080000
DTEND;TZID=UTC:20231008T120000
DTSTAMP:20260422T002745
CREATED:20230821T192541Z
LAST-MODIFIED:20230821T192541Z
UID:3277-1696752000-1696766400@www.somdaudubon.org
SUMMARY:Sharp-Tailed Sparrows and Migrants
DESCRIPTION:Field Trip\nLeader: BOB BOXWELL \nCove Point beach and marsh is a unique habitat on the Western shore of the Chesapeake Bay. A living shoreline project is helping to restore the freshwater marsh from saltwater incursion. We will target sparrows\, marsh inhabitants and migrants. \nFlat sandy walk. May be wet (wind and tide dependent). This is a restricted area and we are limited to ten\nguests. Exact location and directions given upon reservation. RSVP by September 29 to Bob at 410-231-1251 or\nrobertboxwell1@outlook.com.
URL:https://www.somdaudubon.org/event/sharp-tailed-sparrows-and-migrants-2/
LOCATION:Cove Point\, Private\, United States
ORGANIZER;CN="Southern Maryland Audubon Society":MAILTO:somdaudubon@gmail.com
END:VEVENT
END:VCALENDAR