BEGIN:VCALENDAR
VERSION:2.0
PRODID:-//SOMD Audubon - ECPv6.15.18//NONSGML v1.0//EN
CALSCALE:GREGORIAN
METHOD:PUBLISH
X-WR-CALNAME:SOMD Audubon
X-ORIGINAL-URL:https://www.somdaudubon.org
X-WR-CALDESC:Events for SOMD Audubon
REFRESH-INTERVAL;VALUE=DURATION:PT1H
X-Robots-Tag:noindex
X-PUBLISHED-TTL:PT1H
BEGIN:VTIMEZONE
TZID:UTC
BEGIN:STANDARD
TZOFFSETFROM:+0000
TZOFFSETTO:+0000
TZNAME:UTC
DTSTART:20220101T000000
END:STANDARD
END:VTIMEZONE
BEGIN:VEVENT
DTSTART;TZID=UTC:20231022T100000
DTEND;TZID=UTC:20231022T113000
DTSTAMP:20260422T002746
CREATED:20230911T001157Z
LAST-MODIFIED:20230924T040005Z
UID:3475-1697968800-1697974200@www.somdaudubon.org
SUMMARY:Joy of Nature Journaling
DESCRIPTION:Nature Workshop (New Date)\nLeader: KAELYN STEWART \nAlways wanted to learn nature journaling? Or want to take your journaling up a notch? A great way to spend a fall morning getting closer to birds and nature. Kaelyn will guide us in learning to observe nature on a more intimate level at White Plains Regional Park. An easy walk to a pleasant setting. Workshop is free.  Open to all ages 10 and above. Sketchbook and pen will be provided. Meet in the park parking lot\, look for us beneath a hand-held Southern Maryland Audubon logo sign. RSVP required to president.somdaudubon@gmail.com
URL:https://www.somdaudubon.org/event/joy-of-nature-journaling/
LOCATION:White Plains Regional Park\, 1015 St. Charles Parkway\, White Plains\, MD\, 20695\, United States
ORGANIZER;CN="Southern Maryland Audubon Society":MAILTO:somdaudubon@gmail.com
END:VEVENT
END:VCALENDAR