BEGIN:VCALENDAR
VERSION:2.0
PRODID:-//SOMD Audubon - ECPv6.15.18//NONSGML v1.0//EN
CALSCALE:GREGORIAN
METHOD:PUBLISH
X-ORIGINAL-URL:https://www.somdaudubon.org
X-WR-CALDESC:Events for SOMD Audubon
REFRESH-INTERVAL;VALUE=DURATION:PT1H
X-Robots-Tag:noindex
X-PUBLISHED-TTL:PT1H
BEGIN:VTIMEZONE
TZID:UTC
BEGIN:STANDARD
TZOFFSETFROM:+0000
TZOFFSETTO:+0000
TZNAME:UTC
DTSTART:20220101T000000
END:STANDARD
END:VTIMEZONE
BEGIN:VEVENT
DTSTART;TZID=UTC:20231028T080000
DTEND;TZID=UTC:20231028T120000
DTSTAMP:20260422T003106
CREATED:20230911T223759Z
LAST-MODIFIED:20230911T223759Z
UID:3480-1698480000-1698494400@www.somdaudubon.org
SUMMARY:October Birding at the Chestnut Land Trust
DESCRIPTION:Field Trip\nLeader: DEAN NEWMAN \nEnjoy the possibility of both late summer migrants heading south and arriving winter songbirds. Easy terrain through field\, wood\, and wetland. \nDirections: From Solomons Island Road turn onto Dares Beach Rd. Continue for 2.5 miles before taking a right onto Double Oak Rd. From here attendees will drive another mile before turning left into the Land Trust parking lot where the walk will begin. No park fee. Contact Dean Newman at deannewman03@gmail.com
URL:https://www.somdaudubon.org/event/october-birding-at-the-chestnut-land-trust/
LOCATION:American Chestnut Land Trust\, 676 Double Oak Road\, Prince Frederick\, 20678\, United States
ORGANIZER;CN="Southern Maryland Audubon Society":MAILTO:somdaudubon@gmail.com
END:VEVENT
END:VCALENDAR