BEGIN:VCALENDAR
VERSION:2.0
PRODID:-//SOMD Audubon - ECPv6.15.18//NONSGML v1.0//EN
CALSCALE:GREGORIAN
METHOD:PUBLISH
X-ORIGINAL-URL:https://www.somdaudubon.org
X-WR-CALDESC:Events for SOMD Audubon
REFRESH-INTERVAL;VALUE=DURATION:PT1H
X-Robots-Tag:noindex
X-PUBLISHED-TTL:PT1H
BEGIN:VTIMEZONE
TZID:UTC
BEGIN:STANDARD
TZOFFSETFROM:+0000
TZOFFSETTO:+0000
TZNAME:UTC
DTSTART:20220101T000000
END:STANDARD
END:VTIMEZONE
BEGIN:VEVENT
DTSTART;TZID=UTC:20231206T190000
DTEND;TZID=UTC:20231206T200000
DTSTAMP:20260422T035417
CREATED:20230911T223905Z
LAST-MODIFIED:20231130T192412Z
UID:3488-1701889200-1701892800@www.somdaudubon.org
SUMMARY:Tiger Salamander Restoration in Maryland
DESCRIPTION:Monthly Meeting Program via Zoom\, Saving the Salamanders\nSpeaker: KEVIN STOHLGREN\, Regional Heritage Program biologist for the Maryland\nDepartment of Natural Resources (MD DNR) – Note:  speaker change from Ms. Schlimm.\n\n\nThe MD DNR has been working for years to reverse the decline of tiger salamanders\, which can grow to over a foot in length in Delmarva wetlands. Beth will discuss how wetland biologists have helped restore numerous Delmarva bays by returning hydrology and vegetation to natural conditions favorable to increasing tiger salamander breeding. Although still endangered in Maryland\, these efforts are bearing fruit with an increase in salamander populations over the past few years. Beth has worked for MD DNR since 2016. She is a conservation specialist whose primary responsibilities include monitoring and habitat restoration efforts for rare\, threatened and endangered reptiles and amphibians.\nZoom in and join us online. The presentation is free and open to all. To receive the link to join\, you must sign up for our Osprey newsletter using the form at the bottom of this web page. We will email the link prior to the event.
URL:https://www.somdaudubon.org/event/tiger-salamander-restoration-in-maryland/
LOCATION:Zoom Meeting
ORGANIZER;CN="Southern Maryland Audubon Society":MAILTO:somdaudubon@gmail.com
END:VEVENT
END:VCALENDAR