BEGIN:VCALENDAR
VERSION:2.0
PRODID:-//SOMD Audubon - ECPv6.15.18//NONSGML v1.0//EN
CALSCALE:GREGORIAN
METHOD:PUBLISH
X-WR-CALNAME:SOMD Audubon
X-ORIGINAL-URL:https://www.somdaudubon.org
X-WR-CALDESC:Events for SOMD Audubon
REFRESH-INTERVAL;VALUE=DURATION:PT1H
X-Robots-Tag:noindex
X-PUBLISHED-TTL:PT1H
BEGIN:VTIMEZONE
TZID:UTC
BEGIN:STANDARD
TZOFFSETFROM:+0000
TZOFFSETTO:+0000
TZNAME:UTC
DTSTART:20230101T000000
END:STANDARD
END:VTIMEZONE
BEGIN:VEVENT
DTSTART;TZID=UTC:20240306T190000
DTEND;TZID=UTC:20240306T190000
DTSTAMP:20260422T085500
CREATED:20240108T020340Z
LAST-MODIFIED:20240229T124747Z
UID:3672-1709751600-1709751600@www.somdaudubon.org
SUMMARY:Safe Skies-How we can protect birds from window collisions: Monthly Zoom Meeting
DESCRIPTION:March 6\, 2024. 7-8 p.m. Zoom. \nAn estimated 1 billion birds die every year in window collisions. Safe Skies Maryland was created to empower citizens to learn more about this major threat to birds and how to prevent it. Dr. Mark Southerland\, director of Safe Skies Maryland\, will provide solutions for how you can stop bird collisions with your home windows\, as well as how you can get involved in community efforts to equip public buildings with bird-safe windows.\nDr. Southerland earned a PhD in ecology from the University of North Carolina at Chapel Hill and works as an environmental consultant supporting the Maryland Department of Natural Resources. He also leads the legislative program of Safe Skies Maryland campaign for bird safe buildings laws at county\, city and state levels.\nTo receive the Zoom link for our talk\, sign up for our “Osprey” newsletter on our homepage at www.somdaudubon.org.
URL:https://www.somdaudubon.org/event/safe-skies-how-we-can-protect-birds-from-window-collisions-monthly-zoom-meeting/
LOCATION:MD
CATEGORIES:Monthly Zoom Meeting
ORGANIZER;CN="Southern Maryland Audubon Society":MAILTO:somdaudubon@gmail.com
END:VEVENT
END:VCALENDAR