BEGIN:VCALENDAR
VERSION:2.0
PRODID:-//SOMD Audubon - ECPv6.15.18//NONSGML v1.0//EN
CALSCALE:GREGORIAN
METHOD:PUBLISH
X-ORIGINAL-URL:https://www.somdaudubon.org
X-WR-CALDESC:Events for SOMD Audubon
REFRESH-INTERVAL;VALUE=DURATION:PT1H
X-Robots-Tag:noindex
X-PUBLISHED-TTL:PT1H
BEGIN:VTIMEZONE
TZID:UTC
BEGIN:STANDARD
TZOFFSETFROM:+0000
TZOFFSETTO:+0000
TZNAME:UTC
DTSTART:20230101T000000
END:STANDARD
END:VTIMEZONE
BEGIN:VEVENT
DTSTART;TZID=UTC:20240309T080000
DTEND;TZID=UTC:20240309T080000
DTSTAMP:20260422T084453
CREATED:20240229T124516Z
LAST-MODIFIED:20240229T124716Z
UID:3828-1709971200-1709971200@www.somdaudubon.org
SUMMARY:Winter Birds at Pax River Airfield Field Trip
DESCRIPTION:March 9 – SATURDAY – 8:00 a.m. – 12:00 p.m.  \nField Trip Patuxent River Naval Air Station\, St. Mary’s County 21866 Cedar Point\, Bldg. 2189\, NAS Patuxent River\, MD 20670. Gate #2 “WINTER BIRDS AND TUNDRA SPECIALISTS AT PAX RIVER AIRFIELD”  \nLeader: Dean Newman \nWe are fortunate to have access to sections of the Navy base fronting on the confluence of the Patuxent River and the Chesapeake Bay\, which hosts airfields that provide tundra-like habitat. Previous trips have turned up winter birds such as Snow Bunting\, Lapland Longspurs\, Short-eared Owls\, Horned Larks\, Savannah Sparrows\, Wilson’s Snipe and Peregrine Falcon. Preregistration is required and open to U.S. citizens only. Must bring photo ID. Meet at pass office parking lot\, Gate #2. We will be escorted and traveling together in a van; participant size is limited to 13. No restrooms.Preregister to  Dean Newman at deannewman03@gmail.com
URL:https://www.somdaudubon.org/event/winter-birds-at-pax-river-airfield-field-trip/
LOCATION:Patuxent River Naval Air Station\, 21866 Cedar Point\, Bldg. 2189\, NAS Patuxent River\, Maryland\, 20670
ORGANIZER;CN="Southern Maryland Audubon Society":MAILTO:somdaudubon@gmail.com
END:VEVENT
END:VCALENDAR