BEGIN:VCALENDAR
VERSION:2.0
PRODID:-//SOMD Audubon - ECPv6.15.18//NONSGML v1.0//EN
CALSCALE:GREGORIAN
METHOD:PUBLISH
X-WR-CALNAME:SOMD Audubon
X-ORIGINAL-URL:https://www.somdaudubon.org
X-WR-CALDESC:Events for SOMD Audubon
REFRESH-INTERVAL;VALUE=DURATION:PT1H
X-Robots-Tag:noindex
X-PUBLISHED-TTL:PT1H
BEGIN:VTIMEZONE
TZID:UTC
BEGIN:STANDARD
TZOFFSETFROM:+0000
TZOFFSETTO:+0000
TZNAME:UTC
DTSTART:20230101T000000
END:STANDARD
END:VTIMEZONE
BEGIN:VEVENT
DTSTART;TZID=UTC:20240323T100000
DTEND;TZID=UTC:20240323T110000
DTSTAMP:20260422T084304
CREATED:20240217T203602Z
LAST-MODIFIED:20240217T205124Z
UID:3778-1711188000-1711191600@www.somdaudubon.org
SUMMARY:How to Create Your Own Bird B & B
DESCRIPTION:March 23-SATURDAY- 10 a.m.-11 a.m.\nLexington Park Library\, St. Mary’s County\n21677 FDR Blvd.\, Lexington Park\, MD\nPresenter: Molly Moore\, President\, Southern Maryland Audubon Society\nLearn how to attract more birds and pollinators to your yard\, patio or deck without spending a fortune. We will give you tips for providing the native plants\, water sources and shelter birds need to thrive—whether you have a big garden or an apartment window box. And we’ll show you how to make your windows and surroundings safer for the birds you attract. Weather permitting\, we will move outside to identify birds visiting the library grounds. Bring binoculars if you have them\, but we will also have loaners.\nFREE. Register here: https://stmalib.libnet.info/event/9929489
URL:https://www.somdaudubon.org/event/how-to-create-your-own-bird-b-b/
LOCATION:St. Mary’s County Public Library Lexington Park\, 21677 FDR Blvd.\, Lexington Park\, MD\, United States
CATEGORIES:In-Person Workshop
ORGANIZER;CN="Southern Maryland Audubon Society":MAILTO:somdaudubon@gmail.com
END:VEVENT
END:VCALENDAR