BEGIN:VCALENDAR
VERSION:2.0
PRODID:-//SOMD Audubon - ECPv6.15.18//NONSGML v1.0//EN
CALSCALE:GREGORIAN
METHOD:PUBLISH
X-ORIGINAL-URL:https://www.somdaudubon.org
X-WR-CALDESC:Events for SOMD Audubon
REFRESH-INTERVAL;VALUE=DURATION:PT1H
X-Robots-Tag:noindex
X-PUBLISHED-TTL:PT1H
BEGIN:VTIMEZONE
TZID:UTC
BEGIN:STANDARD
TZOFFSETFROM:+0000
TZOFFSETTO:+0000
TZNAME:UTC
DTSTART:20230101T000000
END:STANDARD
END:VTIMEZONE
BEGIN:VEVENT
DTSTART;TZID=UTC:20240330T090000
DTEND;TZID=UTC:20240330T120000
DTSTAMP:20260422T085609
CREATED:20240217T204101Z
LAST-MODIFIED:20240217T204101Z
UID:3784-1711789200-1711800000@www.somdaudubon.org
SUMMARY:Field Trip: Early Migration at the Point
DESCRIPTION:March 30 – SATURDAY – 9:00 a.m. – 12:00 p.m.\nPoint Lookout State Park\, St Mary’s County\n10444 Point Lookout Rd\, Scotland\, MD 20687 \nLeader: Phin Rouland\nCatch some of the earliest signs of migration at one of Maryland’s peak hotspots. Attendees will meet at the picnic area parking and together we’ll walk down to the Point. We’ll scan both the Chesapeake and Potomac waters for any remaining winter waterfowl as well as for spring arrivals including Osprey\, Brown Pelican\, and tern species. At the point we’ll target Northern Gannet which are in peak numbers passing by on migration. We’ll spend what time is left around the picnic area and on trails around Fort Lincoln. Highlights could include arriving swallow species\, Blue-gray Gnatcatcher\, and Yellow-throated Warbler. Flat but unpaved\, approximately 2 mile walk. Gate fee $3 per car. Restrooms available. Limit 12.\nRSVP at https://www.signupgenius.com/go/10C0844A8A923ABFFC70-47681455-early or to phin.rouland@gmail.com.
URL:https://www.somdaudubon.org/event/field-trip-early-migration-at-the-point/
LOCATION:Point Lookout State Park\, St. Mary’s County\, 11175 Point Lookout Road\, Scotland\, MD\, 20687
ORGANIZER;CN="Southern Maryland Audubon Society":MAILTO:somdaudubon@gmail.com
END:VEVENT
END:VCALENDAR