BEGIN:VCALENDAR
VERSION:2.0
PRODID:-//SOMD Audubon - ECPv6.15.18//NONSGML v1.0//EN
CALSCALE:GREGORIAN
METHOD:PUBLISH
X-WR-CALNAME:SOMD Audubon
X-ORIGINAL-URL:https://www.somdaudubon.org
X-WR-CALDESC:Events for SOMD Audubon
REFRESH-INTERVAL;VALUE=DURATION:PT1H
X-Robots-Tag:noindex
X-PUBLISHED-TTL:PT1H
BEGIN:VTIMEZONE
TZID:UTC
BEGIN:STANDARD
TZOFFSETFROM:+0000
TZOFFSETTO:+0000
TZNAME:UTC
DTSTART:20230101T000000
END:STANDARD
END:VTIMEZONE
BEGIN:VEVENT
DTSTART;TZID=UTC:20240403T190000
DTEND;TZID=UTC:20240403T200000
DTSTAMP:20260422T084333
CREATED:20240313T004009Z
LAST-MODIFIED:20240313T004016Z
UID:3867-1712170800-1712174400@www.somdaudubon.org
SUMMARY:Wild Sex: How Nature Does It
DESCRIPTION:April 3\, 2024. 7-8 p.m. Monthly meeting Zoom talk.\nNature is WILD and sometimes competition for reproduction is fierce–from birds and bees to orchids! Join naturalist Kerry Wixted and learn how different plants and animals procreate in odd\, interesting\, and sometimes deadly ways. Kerry Wixted\, a Maryland naturalist with over 15 years’ experience studying flora and fauna of Maryland\, is the Amphibian & Reptile and Invasive Species Program Manager at the Association of Fish & Wildlife Agencies. She has previously worked for the Maryland Department of Natural Resources. She holds a B.S. degree in Wildlife and Fishers Management from Frostburg State University\, and a M.S. degree in Biology from West Virginia University. To receive the Zoom link please email: president.somdaudubon@gmail.com.\nThis lecture may qualify for Master Naturalist and Master Gardener continuing education hours.
URL:https://www.somdaudubon.org/event/wild-sex-how-nature-does-it/
LOCATION:MD
ORGANIZER;CN="Southern Maryland Audubon Society":MAILTO:somdaudubon@gmail.com
END:VEVENT
END:VCALENDAR