BEGIN:VCALENDAR
VERSION:2.0
PRODID:-//SOMD Audubon - ECPv6.15.18//NONSGML v1.0//EN
CALSCALE:GREGORIAN
METHOD:PUBLISH
X-ORIGINAL-URL:https://www.somdaudubon.org
X-WR-CALDESC:Events for SOMD Audubon
REFRESH-INTERVAL;VALUE=DURATION:PT1H
X-Robots-Tag:noindex
X-PUBLISHED-TTL:PT1H
BEGIN:VTIMEZONE
TZID:UTC
BEGIN:STANDARD
TZOFFSETFROM:+0000
TZOFFSETTO:+0000
TZNAME:UTC
DTSTART:20230101T000000
END:STANDARD
END:VTIMEZONE
BEGIN:VEVENT
DTSTART;TZID=UTC:20240420T090000
DTEND;TZID=UTC:20240420T120000
DTSTAMP:20260422T102531
CREATED:20240321T190427Z
LAST-MODIFIED:20240415T095730Z
UID:3883-1713603600-1713614400@www.somdaudubon.org
SUMMARY:Earth Day Birding Program and Walk at Jefferson Patterson Park & Museum
DESCRIPTION:Field Trip – Earth Day Talk & Walk  (9 am to noon)\nLeader: Annette Cook \nJoin SMAS for a short birding program in the JPPM Visitor’s Center Conference Room\, during which attendees will be introduced to the Merlin bird identification app. The program will be followed by a slow\, guided bird-walk along the park’s trails. \nMeet at the Visitor’s Center by 8:55am\, parking is available across the entrance road from the VC. A limited number of loaner binoculars will be available. Attendees are invited to bring a picnic lunch for after the walk concludes. A large cooler will be available to keep food items cool until lunch. Target Species: JPPM’s many micro-habitats offer the chance to see waterfowl\, woodpeckers\, raptors and various songbirds. Terrain: Easy. Mostly level\, paved or gravel. There is a boardwalk with some steps. Wear comfortable shoes; we will stick to trails\, but some muck is possible. Pace: Slow\, with much pausing to binoculate! We may pause to sit quietly and see what comes to us. Distance: About 1 mile total. Restrooms: Available in Visitor’s Center\, Pavilion\, and portable units in King’s Reach Field parking lot and along Indian Village Trail. \nRSVP at Signup Genius or to acook.somdaudubon@gmail.com
URL:https://www.somdaudubon.org/event/earth-day-birding-program-and-walk-at-jefferson-patterson-park/
LOCATION:Jefferson Patterson Park & Museum\, 10515 Mackall Rd\, St. Leonard\, MD\, 20685\, United States
ORGANIZER;CN="Southern Maryland Audubon Society":MAILTO:somdaudubon@gmail.com
END:VEVENT
BEGIN:VEVENT
DTSTART;TZID=UTC:20240420T090000
DTEND;TZID=UTC:20240420T120000
DTSTAMP:20260422T102531
CREATED:20240321T190512Z
LAST-MODIFIED:20240321T190659Z
UID:3890-1713603600-1713614400@www.somdaudubon.org
SUMMARY:What's Soaring at Sotterley
DESCRIPTION:Field Trip Bird Walk (9 am to noon)\nLeader: Dean Newman \nEnjoy a bird walk at this scenic and historic Patuxent River property as the annual surge of bird migration begins. Nesting Bald Eagles\, migrating warblers\, meadowlarks\, woodpeckers and waterfowl can all be found on Sotterley’s farm roads and trails. \nDIRECTIONS: From Rt. 235 go north on Sotterley Road\, turn right through the gates into Sotterley\, proceed to the gravel parking lot. \nRSVP at Signup Genius or to Dean Newman at deannewman03@gmail.com
URL:https://www.somdaudubon.org/event/whats-soaring-at-sotterley-9-am-to-noon/
LOCATION:Historic Sotterley\, 44300 Sotterley Lane\, Hollywood\, MD\, 20636\, United States
ORGANIZER;CN="Southern Maryland Audubon Society":MAILTO:somdaudubon@gmail.com
END:VEVENT
END:VCALENDAR