BEGIN:VCALENDAR
VERSION:2.0
PRODID:-//SOMD Audubon - ECPv6.15.18//NONSGML v1.0//EN
CALSCALE:GREGORIAN
METHOD:PUBLISH
X-WR-CALNAME:SOMD Audubon
X-ORIGINAL-URL:https://www.somdaudubon.org
X-WR-CALDESC:Events for SOMD Audubon
REFRESH-INTERVAL;VALUE=DURATION:PT1H
X-Robots-Tag:noindex
X-PUBLISHED-TTL:PT1H
BEGIN:VTIMEZONE
TZID:UTC
BEGIN:STANDARD
TZOFFSETFROM:+0000
TZOFFSETTO:+0000
TZNAME:UTC
DTSTART:20230101T000000
END:STANDARD
END:VTIMEZONE
BEGIN:VEVENT
DTSTART;TZID=UTC:20240609T130000
DTEND;TZID=UTC:20240609T160000
DTSTAMP:20260422T144745
CREATED:20240516T231732Z
LAST-MODIFIED:20240604T151329Z
UID:4057-1717938000-1717948800@www.somdaudubon.org
SUMMARY:Annual Meeting and Picnic
DESCRIPTION:Annual Meeting and Picnic at Maxwell Hall  in Charles County\nAgenda\n\n1:00 to 2:15 p.m. Potluck Lunch\n2:15 to 2:30 p.m. Welcome\n2:30 to 3:00 p.m. Business Meeting: Elections and Award Presentations\n3:00 to 4:00 p.m. Bird Walk\n\nPlease RSVP to assist us in planning for the picnic:  Signup Genius \n\nWe’ll also have a native plant sale and new SMAS swag sale including t-shirts\, hats and mugs.\n\nSitting on a knoll overlooking Swanson Creek and the Patuxent River\, Maxwell Hall Park is one of Southern Maryland’s best surviving examples of a typical 18th century four-over-four room house. This Charles County Park features 6 main trails\, offering 14 miles of diverse hiking trails; open fields\, wooded areas\, steep terrain\, shoreline\, beach rest locations\, and a trail course.\n\nParking: look for SMAS signage. Be sure to set your GPS for Maxwell Hall and not Maxwell Hall Park as it will take you too far from the picnic pavilion.)
URL:https://www.somdaudubon.org/event/annual-meeting-and-picnic-2/
LOCATION:Maxwell Hall\, 17388 Teagues Point Rd.\, Hughesville\, 20637\, United States
ORGANIZER;CN="Southern Maryland Audubon Society":MAILTO:somdaudubon@gmail.com
END:VEVENT
END:VCALENDAR