BEGIN:VCALENDAR
VERSION:2.0
PRODID:-//SOMD Audubon - ECPv6.15.18//NONSGML v1.0//EN
CALSCALE:GREGORIAN
METHOD:PUBLISH
X-WR-CALNAME:SOMD Audubon
X-ORIGINAL-URL:https://www.somdaudubon.org
X-WR-CALDESC:Events for SOMD Audubon
REFRESH-INTERVAL;VALUE=DURATION:PT1H
X-Robots-Tag:noindex
X-PUBLISHED-TTL:PT1H
BEGIN:VTIMEZONE
TZID:UTC
BEGIN:STANDARD
TZOFFSETFROM:+0000
TZOFFSETTO:+0000
TZNAME:UTC
DTSTART:20240101T000000
END:STANDARD
END:VTIMEZONE
BEGIN:VEVENT
DTSTART;VALUE=DATE:20260104
DTEND;VALUE=DATE:20260105
DTSTAMP:20260421T102153
CREATED:20251028T180200Z
LAST-MODIFIED:20251028T180200Z
UID:4891-1767484800-1767571199@www.somdaudubon.org
SUMMARY:Christmas Bird Count\, Potomac River Shoreline
DESCRIPTION:Join us for the 126th annual Christmas Bird Count! \nThe Christmas Bird Count (CBC) began in 1900\, a period of rampant hunting\, to promote the conservation of birds. Now organized by the National Audubon Society\, it is an early winter census\, where thousands of volunteers go out to count birds.  Open to people of all experience levels\, the CBC is a great opportunity to learn! \nFor more info about the Christmas Bird Count\, check out the National Audubon Society’s webpage at https://www.audubon.org/community-science/christmas-bird-count. Counts take place for one day in a given “circle\,” or territory. Several circles in Southern Maryland need volunteers. \nIf you’d like to help along the Maryland Shoreline of the Potomac River (Charles County) on January 4\, contact Lynne Wheeler at 301-751-8097 or somdaudubon@yahoo.com or reach out to Bob Lukinic at 301-283-6317 or rdlukinic@gmail.com.
URL:https://www.somdaudubon.org/event/christmas-bird-count-potomac-river-shoreline/
CATEGORIES:Bird Counts
ORGANIZER;CN="Southern Maryland Audubon Society":MAILTO:somdaudubon@gmail.com
END:VEVENT
BEGIN:VEVENT
DTSTART;VALUE=DATE:20251227
DTEND;VALUE=DATE:20251228
DTSTAMP:20260421T102153
CREATED:20251028T180224Z
LAST-MODIFIED:20251029T171326Z
UID:4889-1766793600-1766879999@www.somdaudubon.org
SUMMARY:Christmas Bird Count\, Patuxent River
DESCRIPTION:Join us for the 126th annual Christmas Bird Count! \nThe Christmas Bird Count (CBC) began in 1900\, a period of rampant hunting\, to promote the conservation of birds. Now organized by the National Audubon Society\, it is an early winter census\, where thousands of volunteers go out to count birds.  Open to people of all experience levels\, the CBC is a great opportunity to learn! \nFor more info about the Christmas Bird Count\, check out the National Audubon Society’s webpage at https://www.audubon.org/community-science/christmas-bird-count. Counts take place for one day in a given “circle\,” or territory. Several circles in Southern Maryland need volunteers. \nIf you’d like to help at the Patuxent River on December 27\, text Ben Springer at 443-771-6636 or email him at ben.springer@comcast.net.
URL:https://www.somdaudubon.org/event/christmas-bird-count-patuxent-river/
CATEGORIES:Bird Counts
ORGANIZER;CN="Southern Maryland Audubon Society":MAILTO:somdaudubon@gmail.com
END:VEVENT
BEGIN:VEVENT
DTSTART;VALUE=DATE:20251221
DTEND;VALUE=DATE:20251222
DTSTAMP:20260421T102153
CREATED:20251028T180305Z
LAST-MODIFIED:20251028T180305Z
UID:4872-1766275200-1766361599@www.somdaudubon.org
SUMMARY:Christmas Bird Count\, Point Lookout
DESCRIPTION:Join us for the 126th annual Christmas Bird Count! \nThe Christmas Bird Count (CBC) began in 1900\, a period of rampant hunting\, to promote the conservation of birds. Now organized by the National Audubon Society\, it is an early winter census\, where thousands of volunteers go out to count birds.  Open to people of all experience levels\, the CBC is a great opportunity to learn! \nFor more info about the Christmas Bird Count\, check out the National Audubon Society’s webpage at https://www.audubon.org/community-science/christmas-bird-count. Counts take place for one day in a given “circle\,” or territory. Several circles in Southern Maryland need volunteers. \nIf you’d like to help in Point Lookout on December 21\, contact Bob Boxwell at 410-231-1251 or email him at robertboxwell1@outlook.com.
URL:https://www.somdaudubon.org/event/christmas-bird-count-point-lookout/
LOCATION:Point Lookout State Park\, St. Mary’s County\, 11175 Point Lookout Road\, Scotland\, MD\, 20687
CATEGORIES:Bird Counts
ORGANIZER;CN="Southern Maryland Audubon Society":MAILTO:somdaudubon@gmail.com
END:VEVENT
BEGIN:VEVENT
DTSTART;VALUE=DATE:20251214
DTEND;VALUE=DATE:20251215
DTSTAMP:20260421T102153
CREATED:20251028T180345Z
LAST-MODIFIED:20251028T180345Z
UID:4877-1765670400-1765756799@www.somdaudubon.org
SUMMARY:Christmas Bird Count\, Port Tobacco
DESCRIPTION:Join us for the 126th annual Christmas Bird Count! \nThe Christmas Bird Count (CBC) began in 1900\, a period of rampant hunting\, to promote the conservation of birds. Now organized by the National Audubon Society\, it is an early winter census\, where thousands of volunteers go out to count birds.  Open to people of all experience levels\, the CBC is a great opportunity to learn! \nFor more info about the Christmas Bird Count\, check out the National Audubon Society’s webpage at https://www.audubon.org/community-science/christmas-bird-count. Counts take place for one day in a given “circle\,” or territory. Several circles in Southern Maryland need volunteers. \nIf you’d like to help in Port Tobacco on December 14\, contact Mike Callahan at 240-765-5192 or email him at raptorsrulemc@gmail.com.
URL:https://www.somdaudubon.org/event/christmas-bird-count-port-tobacco/
CATEGORIES:Bird Counts
ORGANIZER;CN="Southern Maryland Audubon Society":MAILTO:somdaudubon@gmail.com
END:VEVENT
END:VCALENDAR