BEGIN:VCALENDAR
VERSION:2.0
PRODID:-//SOMD Audubon - ECPv6.15.18//NONSGML v1.0//EN
CALSCALE:GREGORIAN
METHOD:PUBLISH
X-WR-CALNAME:SOMD Audubon
X-ORIGINAL-URL:https://www.somdaudubon.org
X-WR-CALDESC:Events for SOMD Audubon
REFRESH-INTERVAL;VALUE=DURATION:PT1H
X-Robots-Tag:noindex
X-PUBLISHED-TTL:PT1H
BEGIN:VTIMEZONE
TZID:UTC
BEGIN:STANDARD
TZOFFSETFROM:+0000
TZOFFSETTO:+0000
TZNAME:UTC
DTSTART:20220101T000000
END:STANDARD
END:VTIMEZONE
BEGIN:VEVENT
DTSTART;TZID=UTC:20230301T190000
DTEND;TZID=UTC:20230301T200000
DTSTAMP:20260421T133420
CREATED:20230128T193655Z
LAST-MODIFIED:20230203T191604Z
UID:2962-1677697200-1677700800@www.somdaudubon.org
SUMMARY:The Bird-Insect Food Web
DESCRIPTION:Bluebird with a tasty snack! \nMonthly Meeting via Zoom\nSpeaker: Ashley Kennedy\, Ph.D.\, BCE. Entomologist\, Delaware Department of Natural Resources and Environmental Control \nNumerous studies from around the world suggest that insect populations are currently in decline\, which in turn affects birds who rely on insects for food. To determine which insects are most important in bird diets we formed a community science project across North America which provided crowd-sourced pictures of birds with their arthropod prey. Based on more than 8\,000 photos of Delaware bluebirds\, and more than 7\,000 photos of other species\, we gained insight about the food web that connect plants\, insects\, and birds and what we can do in our own yards to make a difference. \nZoom in and join us online. The presentation is free and open to all. To receive the link to join\, you must sign up for our Osprey newsletter using the form at the bottom of this web page. We will email the link prior to the event.
URL:https://www.somdaudubon.org/event/the-bird-insect-food-web/
LOCATION:Zoom Meeting
ORGANIZER;CN="Southern Maryland Audubon Society":MAILTO:somdaudubon@gmail.com
END:VEVENT
BEGIN:VEVENT
DTSTART;TZID=UTC:20230304T080000
DTEND;TZID=UTC:20230304T120000
DTSTAMP:20260421T133420
CREATED:20230128T183933Z
LAST-MODIFIED:20230128T193306Z
UID:2967-1677916800-1677931200@www.somdaudubon.org
SUMMARY:Winter Birds and Tundra Specialists at PAX River Airfield
DESCRIPTION:Short Eared Owl. Photo by Boe Baty\, Audubon Photography Awards \nField Trip\nLeader: Dean Newman \nOne of our best outings! Don’t miss this trip; it fills up quickly! We are fortunate to have access to sections of the navy base fronting on the confluence of the Patuxent River and the Chesapeake Bay\, which hosts airfields that provide tundra-like habitat. Previous trips have turned up winter birds such as Snow Bunting\, Lapland Longspurs\, Short-eared Owls\, Horned Larks\, Savannah Sparrows\, Wilson’s Snipe\, and Peregrine Falcon. \nPre-registration is required and open to U.S. citizens only. Must bring photo I.D. We will be escorted and traveling together in a van\, so participant size is limited to 10. RSVP to Dean Newman at deannewman03@gmail.com. \nMeet near the entrance to Gate 2\, in the parking lot for the pass office.
URL:https://www.somdaudubon.org/event/winter-birds-and-tundra-specialists-at-pax-river-airfield/
LOCATION:Patuxent River Naval Air Station\, 21866 Cedar Point\, Bldg. 2189\, NAS Patuxent River\, Maryland\, 20670
ORGANIZER;CN="Southern Maryland Audubon Society":MAILTO:somdaudubon@gmail.com
END:VEVENT
BEGIN:VEVENT
DTSTART;TZID=UTC:20230325T090000
DTEND;TZID=UTC:20230325T120000
DTSTAMP:20260421T133420
CREATED:20230128T191551Z
LAST-MODIFIED:20230129T020453Z
UID:2971-1679734800-1679745600@www.somdaudubon.org
SUMMARY:Early Spring Birds at "the Neck"
DESCRIPTION:Yellow-throated Warbler. Photo by Maija Lawrence\, Audubon Photography Awards \nField Trip\nYouth Birding  \nLeader: Ben Springer \nDo you want to learn about birds?  Or want to meet other kids that love birds?  If so\, this is your trip! Join Southern Maryland Youth Birders at a great location. Newtowne Neck is a 776-acre park of shoreline\, woodlands\, wetlands\, and agricultural fields—a wide variety of birding habitats. On this trip last year\, young birders found 52 species\, including Yellow-throated Warblers! \nFrom Rte. 5 north of Leonardtown\, turn on Rte. 243 (Newtowne Neck Road)\, continue for 4.5 miles to parking lot on left just beyond the graveyard and before St. Francis Xavier’s Church. RSVP required to Ben at 443-771-6636 (text preferred) or ben.springer@comcast.net. \n 
URL:https://www.somdaudubon.org/event/early-spring-birds-at-the-neck/
LOCATION:Newtowne Neck State Park\, 21110 Newtowne Neck Road\, Leonardtown\, MD\, 20650\, United States
ORGANIZER;CN="Southern Maryland Audubon Society":MAILTO:somdaudubon@gmail.com
END:VEVENT
END:VCALENDAR