BEGIN:VCALENDAR
VERSION:2.0
PRODID:-//SOMD Audubon - ECPv6.15.18//NONSGML v1.0//EN
CALSCALE:GREGORIAN
METHOD:PUBLISH
X-WR-CALNAME:SOMD Audubon
X-ORIGINAL-URL:https://www.somdaudubon.org
X-WR-CALDESC:Events for SOMD Audubon
REFRESH-INTERVAL;VALUE=DURATION:PT1H
X-Robots-Tag:noindex
X-PUBLISHED-TTL:PT1H
BEGIN:VTIMEZONE
TZID:UTC
BEGIN:STANDARD
TZOFFSETFROM:+0000
TZOFFSETTO:+0000
TZNAME:UTC
DTSTART:20230101T000000
END:STANDARD
END:VTIMEZONE
BEGIN:VEVENT
DTSTART;TZID=UTC:20240106T100000
DTEND;TZID=UTC:20240106T113000
DTSTAMP:20260422T035223
CREATED:20231203T231351Z
LAST-MODIFIED:20231203T231351Z
UID:3560-1704535200-1704540600@www.somdaudubon.org
SUMMARY:All the Dirt on Winter Sowing Native Plant Seeds
DESCRIPTION:Monthly Meeting/Workshop Program In-person\nSpeakers: MOLLY MOORE\, President Southern Maryland Audubon\, & member MARLENE SMITH. Both are Charles County Master Gardeners. \nNative plants are critical to supporting birds\, butterflies\, bees and other pollinators\, but they can be expensive to buy! Learn how to grow your own natives from seeds in milk jugs—in the dead of winter. In this hands-on\, in-person workshop\, you’ll plant jugs to take home. Please bring at least one clean milk jug or similar sized container (translucent or clear\, not white). We will have extras and all other supplies\, including seeds available. \nWorkshop is free and open to all but limited to 30 participants. \nYou may sign up here: https://www.signupgenius.com/go/10C0844A8A923ABFFC70-46076755-winter \nMeeting to be held in Room A of the Waldorf-West library\, address below.
URL:https://www.somdaudubon.org/event/all-the-dirt-on-winter-sowing-native-plant-seeds/
LOCATION:Charles County Public Library – Waldorf West\, 10405 O’Donnell Place\, Waldorf\, MD\, 20603\, United States
END:VEVENT
BEGIN:VEVENT
DTSTART;TZID=UTC:20240120T080000
DTEND;TZID=UTC:20240120T120000
DTSTAMP:20260422T035223
CREATED:20240108T012659Z
LAST-MODIFIED:20240108T012659Z
UID:3663-1705737600-1705752000@www.somdaudubon.org
SUMMARY:Winter Waterfowl Field Trip
DESCRIPTION:Saturday\, Jan. 20\, 2024. 8 a.m.-noon\nJefferson Patterson Park\, Calvert County\n10515 Mackall Rd\, St Leonard\, MD 20685\nLeader: Tyler Bell\nOpen fields and wooded areas provide good land birding and the river frontage offers close views of waterfowl including Horned Grebe\, Long-tailed Duck\, lots of Ruddy Ducks\, both scaup\, Common Goldeneye and many others!\nCall or email Tyler for directions to the meeting spot. Maximum of 10 participants. SMAS Covid rules may apply. Will discuss with attendees prior to the trip. RSVP to Tyler at 301-862-4623 or\njtylerbell@yahoo.com.
URL:https://www.somdaudubon.org/event/winter-waterfowl-field-trip/
LOCATION:Jefferson Patterson Park & Museum\, 10515 Mackall Rd\, St. Leonard\, MD\, 20685\, United States
ORGANIZER;CN="Southern Maryland Audubon Society":MAILTO:somdaudubon@gmail.com
END:VEVENT
BEGIN:VEVENT
DTSTART;TZID=UTC:20240127T140000
DTEND;TZID=UTC:20240127T153000
DTSTAMP:20260422T035223
CREATED:20240108T005246Z
LAST-MODIFIED:20240108T010812Z
UID:3654-1706364000-1706369400@www.somdaudubon.org
SUMMARY:Winter Sowing Native Plants\, Veggies & Herbs in-Person Workshop
DESCRIPTION:Saturday\, Jan. 27\, 2024. 2-3:30 PM\nSpeakers: MOLLY MOORE\, President Southern Maryland Audubon\, & member MARLENE SMITH. Both are Charles County Master Gardeners. \nNative plants are critical to supporting birds\, butterflies\, bees and other pollinators\, but they can be expensive to buy! Learn how to grow your own natives from seeds in milk jugs—in the dead of winter. In this hands-on\, in-person workshop\, you’ll plant jugs to take home. Please bring at least one clean milk jug or similar sized container (translucent or clear\, not white). We will have extras and all other supplies\, including seeds available.\nTo register\, sign up here:\nhttps://stmalib.libnet.info/event/9177203?registration=truePlease enable JavaScript in your browser to complete this form.Name *FirstLastEmail *Comment or Message *MessageSubmit
URL:https://www.somdaudubon.org/event/winter-sowing-native-plants-veggies-herbs-in-person-workshop/
LOCATION:St. Mary’s County Public Library Lexington Park\, 21677 FDR Blvd.\, Lexington Park\, MD\, United States
CATEGORIES:In-Person Workshop
ORGANIZER;CN="Southern Maryland Audubon Society":MAILTO:somdaudubon@gmail.com
END:VEVENT
END:VCALENDAR